BEGIN:VCALENDAR
VERSION:2.0
PRODID:-//Together - ECPv6.15.4//NONSGML v1.0//EN
CALSCALE:GREGORIAN
METHOD:PUBLISH
X-ORIGINAL-URL:https://www.togetherhvh.nl
X-WR-CALDESC:Evenementen voor Together
REFRESH-INTERVAL;VALUE=DURATION:PT1H
X-Robots-Tag:noindex
X-PUBLISHED-TTL:PT1H
BEGIN:VTIMEZONE
TZID:Europe/Amsterdam
BEGIN:DAYLIGHT
TZOFFSETFROM:+0100
TZOFFSETTO:+0200
TZNAME:CEST
DTSTART:20260329T010000
END:DAYLIGHT
BEGIN:STANDARD
TZOFFSETFROM:+0200
TZOFFSETTO:+0100
TZNAME:CET
DTSTART:20261025T010000
END:STANDARD
END:VTIMEZONE
BEGIN:VEVENT
DTSTART;TZID=Europe/Amsterdam:20260504T190000
DTEND;TZID=Europe/Amsterdam:20260504T193000
DTSTAMP:20260421T141104
CREATED:20240313T060047Z
LAST-MODIFIED:20251105T095805Z
UID:2987-1777921200-1777923000@www.togetherhvh.nl
SUMMARY:Dodenherdenking Hoek van Holland
DESCRIPTION:
URL:https://www.togetherhvh.nl/?tribe_events=dodenherdenking-hoek-van-holland
LOCATION:De Heilige Egbertuskerk\, Cordesstraat 27\, Hoek van Holland\, 3151\, Nederland
END:VEVENT
BEGIN:VEVENT
DTSTART;TZID=Europe/Amsterdam:20260524T080000
DTEND;TZID=Europe/Amsterdam:20260524T120000
DTSTAMP:20260421T141104
CREATED:20251219T161448Z
LAST-MODIFIED:20251219T161448Z
UID:3367-1779609600-1779624000@www.togetherhvh.nl
SUMMARY:1e pinksterdag dienst in Ter Heijde aan Zee
DESCRIPTION:
URL:https://www.togetherhvh.nl/?tribe_events=1e-pinksterdag-dienst-in-ter-heijde-aan-zee
LOCATION:Hervormde gemeente Ter Heijde aan Zee\, Prins Willem III-Plein 1\, Ter Heijde\, 2684 VP\, Netherlands
END:VEVENT
BEGIN:VEVENT
DTSTART;TZID=Europe/Amsterdam:20260705T080000
DTEND;TZID=Europe/Amsterdam:20260705T110000
DTSTAMP:20260421T141104
CREATED:20251219T160951Z
LAST-MODIFIED:20251219T160951Z
UID:3359-1783238400-1783249200@www.togetherhvh.nl
SUMMARY:Dienst Dorpskerk (ovb)
DESCRIPTION:
URL:https://www.togetherhvh.nl/?tribe_events=dienst-dorpskerk-ovb
LOCATION:Dorpskerk\, Prins Hendrikstraat 191\, Hoek van Holland\, Z-Holland\, 3151 AH
END:VEVENT
BEGIN:VEVENT
DTSTART;TZID=Europe/Amsterdam:20260913T100000
DTEND;TZID=Europe/Amsterdam:20260913T113000
DTSTAMP:20260421T141104
CREATED:20260203T125703Z
LAST-MODIFIED:20260203T125703Z
UID:3381-1789293600-1789299000@www.togetherhvh.nl
SUMMARY:Dienst in De Vredekerk\, de Lier
DESCRIPTION:
URL:https://www.togetherhvh.nl/?tribe_events=dienst-in-de-vredekerk-de-lier
LOCATION:De Vredekerk\, Kon. Wilhelminastraat 1\, De Lier\, Zuid Holland\, 2678EK\, Netherlands
END:VEVENT
BEGIN:VEVENT
DTSTART;TZID=Europe/Amsterdam:20260927T080000
DTEND;TZID=Europe/Amsterdam:20260927T110000
DTSTAMP:20260421T141104
CREATED:20251219T161059Z
LAST-MODIFIED:20251219T161059Z
UID:3361-1790496000-1790506800@www.togetherhvh.nl
SUMMARY:Startzondag Dorpskerk HvH
DESCRIPTION:
URL:https://www.togetherhvh.nl/?tribe_events=startzondag-dorpskerk-hvh
LOCATION:Dorpskerk\, Prins Hendrikstraat 191\, Hoek van Holland\, Z-Holland\, 3151 AH
END:VEVENT
BEGIN:VEVENT
DTSTART;TZID=Europe/Amsterdam:20261025T100000
DTEND;TZID=Europe/Amsterdam:20261025T120000
DTSTAMP:20260421T141104
CREATED:20251219T161149Z
LAST-MODIFIED:20251219T161149Z
UID:3363-1792922400-1792929600@www.togetherhvh.nl
SUMMARY:Dienst Oude Kerk Maasland
DESCRIPTION:
URL:https://www.togetherhvh.nl/?tribe_events=dienst-oude-kerk-maasland
LOCATION:Oude Kerk Maasland\, kerkplein 1\, Maasland\, 3155 AM\, Nederland
END:VEVENT
BEGIN:VEVENT
DTSTART;TZID=Europe/Amsterdam:20261122T080000
DTEND;TZID=Europe/Amsterdam:20261122T110000
DTSTAMP:20260421T141104
CREATED:20260124T085842Z
LAST-MODIFIED:20260124T085842Z
UID:3373-1795334400-1795345200@www.togetherhvh.nl
SUMMARY:Zingen in de  Uniekerk
DESCRIPTION:
URL:https://www.togetherhvh.nl/?tribe_events=zingen-in-de-uniekerk
LOCATION:Uniekerk\, Langestraat 181\, 's-Gravenzande\, 2691 BE\, Netherlands
END:VEVENT
BEGIN:VEVENT
DTSTART;TZID=Europe/Amsterdam:20261225T080000
DTEND;TZID=Europe/Amsterdam:20261225T120000
DTSTAMP:20260421T141104
CREATED:20251219T161308Z
LAST-MODIFIED:20251219T161308Z
UID:3365-1798185600-1798200000@www.togetherhvh.nl
SUMMARY:1e kerstdag Dorpskerk HvH
DESCRIPTION:
URL:https://www.togetherhvh.nl/?tribe_events=1e-kerstdag-dorpskerk-hvh
LOCATION:Dorpskerk\, Prins Hendrikstraat 191\, Hoek van Holland\, Z-Holland\, 3151 AH
END:VEVENT
END:VCALENDAR